BEGIN:VCALENDAR
VERSION:2.0
PRODID:-//Tukios.com/
BEGIN:VEVENT
UID:c823ec5f-3065-4ee7-aec1-d7ebf7ecdefb@obituaries.scottfuneralservices.com
DTSTAMP:20260424T195722Z
DTSTART:20260425T140000Z
DTEND:20260425T150000Z
SUMMARY:Visitation
DESCRIPTION:
URL:https://obituaries.scottfuneralservices.com/obituaries/joseph-augutis
LOCATION: 504 W Interlake Blvd  Lake Placid FL 33852
GEO:27.2970153;-81.3731519
END:VEVENT
END:VCALENDAR