BEGIN:VCALENDAR
VERSION:2.0
PRODID:-//Tukios.com/
BEGIN:VEVENT
UID:c33cc278-ec92-4cf6-bb19-6d73a1107a2b@obituaries.scottfuneralservices.com
DTSTAMP:20260424T195300Z
DTSTART:20260425T150000Z
DTEND:20260425T160000Z
SUMMARY:Funeral Service
DESCRIPTION:
URL:https://obituaries.scottfuneralservices.com/obituaries/joseph-augutis
LOCATION: 504 W Interlake Blvd  Lake Placid FL 33852
GEO:27.2970153;-81.3731519
END:VEVENT
END:VCALENDAR